Workbook

Sheet Istruzioni
A1: Istruzioni:
A2: 1. | B2: Compilare le celle nelle colonne A - B - C - D - E - F - G per ciascun affidamento del progetto campionato dall'Amministrazione attuatrice
A3: 2. | B3: Selezionare per ciascun affidamento le variabili da 1 a 5 (colonne H - J - L - N - P )
A4: 3. | B4: Indicare con la "X", nella colonna S, gli affidamenti con un ranking totale più alto fino al raggiungimento della soglia minima del 5% che viene indicata nella cella F26

Sheet Analisi dei rischi e campione
A1: Allegato 1 - Analisi dei rischi DPC | C1: ANALISI DEI RISCHI DPC E CAMPIONAMENTO AFFIDAMENTI PER VERIFICHE ON DESK AMMINISTRATIVO CONTABILI
A2: ANAGRAFICA | H2: 1) RISCHIOSITA' PROGETTO IN ARACHNE | J2: 2) RISCHIOSITA' SOGGETTO ATTUATORE IN ARACHNE | L2: C) VALORE FINANZIARIO PROGETTO | N2: 4) TIPOLOGIA DI AFFIDAMENTO/CONFERIMENTO | P2: 5) ESITI PRECEDENTI CONTROLLI | R2: RANKING TOTALE | S2: Affidamento campionato
A3: ID Rendiconto | B3: CUP | C3: Titolo intervento | D3: Soggetto attuatore | E3: CIG procedura di affidamento | F3: Importo rendicontato ammissibile | G3: Importo rendicontato non ammissibile
I4: =IFERROR(HLOOKUP($H4,DATI!$A$3:$D$4,2,FALSE),"") | K4: =IFERROR(HLOOKUP($J4,DATI!$E$3:$H$4,2,FALSE),"") | M4: =IFERROR(HLOOKUP($L4,DATI!$I$3:$L$4,2,FALSE),"") | O4: =IFERROR(HLOOKUP($N4,DATI!$M$3:$P$4,2,FALSE),"") | Q4: =IFERROR(HLOOKUP($P4,DATI!$Q$3:$T$4,2,FALSE),"") | R4: =SUM(I4,K4,M4,O4,Q4) -> 0
I5: =IFERROR(HLOOKUP($H5,DATI!$A$3:$D$4,2,FALSE),"") | K5: =IFERROR(HLOOKUP($J5,DATI!$E$3:$H$4,2,FALSE),"") | M5: =IFERROR(HLOOKUP($L5,DATI!$I$3:$L$4,2,FALSE),"") | O5: =IFERROR(HLOOKUP($N5,DATI!$M$3:$P$4,2,FALSE),"") | Q5: =IFERROR(HLOOKUP($P5,DATI!$Q$3:$T$4,2,FALSE),"") | R5: =SUM(I5,K5,M5,O5,Q5) -> 0
I6: =IFERROR(HLOOKUP($H6,DATI!$A$3:$D$4,2,FALSE),"") | K6: =IFERROR(HLOOKUP($J6,DATI!$E$3:$H$4,2,FALSE),"") | M6: =IFERROR(HLOOKUP($L6,DATI!$I$3:$L$4,2,FALSE),"") | O6: =IFERROR(HLOOKUP($N6,DATI!$M$3:$P$4,2,FALSE),"") | Q6: =IFERROR(HLOOKUP($P6,DATI!$Q$3:$T$4,2,FALSE),"") | R6: =SUM(I6,K6,M6,O6,Q6) -> 0
I7: =IFERROR(HLOOKUP($H7,DATI!$A$3:$D$4,2,FALSE),"") | K7: =IFERROR(HLOOKUP($J7,DATI!$E$3:$H$4,2,FALSE),"") | M7: =IFERROR(HLOOKUP($L7,DATI!$I$3:$L$4,2,FALSE),"") | O7: =IFERROR(HLOOKUP($N7,DATI!$M$3:$P$4,2,FALSE),"") | Q7: =IFERROR(HLOOKUP($P7,DATI!$Q$3:$T$4,2,FALSE),"") | R7: =SUM(I7,K7,M7,O7,Q7) -> 0
I8: =IFERROR(HLOOKUP($H8,DATI!$A$3:$D$4,2,FALSE),"") | K8: =IFERROR(HLOOKUP($J8,DATI!$E$3:$H$4,2,FALSE),"") | M8: =IFERROR(HLOOKUP($L8,DATI!$I$3:$L$4,2,FALSE),"") | O8: =IFERROR(HLOOKUP($N8,DATI!$M$3:$P$4,2,FALSE),"") | Q8: =IFERROR(HLOOKUP($P8,DATI!$Q$3:$T$4,2,FALSE),"") | R8: =SUM(I8,K8,M8,O8,Q8) -> 0
I9: =IFERROR(HLOOKUP($H9,DATI!$A$3:$D$4,2,FALSE),"") | K9: =IFERROR(HLOOKUP($J9,DATI!$E$3:$H$4,2,FALSE),"") | M9: =IFERROR(HLOOKUP($L9,DATI!$I$3:$L$4,2,FALSE),"") | O9: =IFERROR(HLOOKUP($N9,DATI!$M$3:$P$4,2,FALSE),"") | Q9: =IFERROR(HLOOKUP($P9,DATI!$Q$3:$T$4,2,FALSE),"") | R9: =SUM(I9,K9,M9,O9,Q9) -> 0
I10: =IFERROR(HLOOKUP($H10,DATI!$A$3:$D$4,2,FALSE),"") | K10: =IFERROR(HLOOKUP($J10,DATI!$E$3:$H$4,2,FALSE),"") | M10: =IFERROR(HLOOKUP($L10,DATI!$I$3:$L$4,2,FALSE),"") | O10: =IFERROR(HLOOKUP($N10,DATI!$M$3:$P$4,2,FALSE),"") | Q10: =IFERROR(HLOOKUP($P10,DATI!$Q$3:$T$4,2,FALSE),"") | R10: =SUM(I10,K10,M10,O10,Q10) -> 0
I11: =IFERROR(HLOOKUP($H11,DATI!$A$3:$D$4,2,FALSE),"") | K11: =IFERROR(HLOOKUP($J11,DATI!$E$3:$H$4,2,FALSE),"") | M11: =IFERROR(HLOOKUP($L11,DATI!$I$3:$L$4,2,FALSE),"") | O11: =IFERROR(HLOOKUP($N11,DATI!$M$3:$P$4,2,FALSE),"") | Q11: =IFERROR(HLOOKUP($P11,DATI!$Q$3:$T$4,2,FALSE),"") | R11: =SUM(I11,K11,M11,O11,Q11) -> 0
I12: =IFERROR(HLOOKUP($H12,DATI!$A$3:$D$4,2,FALSE),"") | K12: =IFERROR(HLOOKUP($J12,DATI!$E$3:$H$4,2,FALSE),"") | M12: =IFERROR(HLOOKUP($L12,DATI!$I$3:$L$4,2,FALSE),"") | O12: =IFERROR(HLOOKUP($N12,DATI!$M$3:$P$4,2,FALSE),"") | Q12: =IFERROR(HLOOKUP($P12,DATI!$Q$3:$T$4,2,FALSE),"") | R12: =SUM(I12,K12,M12,O12,Q12) -> 0
I13: =IFERROR(HLOOKUP($H13,DATI!$A$3:$D$4,2,FALSE),"") | K13: =IFERROR(HLOOKUP($J13,DATI!$E$3:$H$4,2,FALSE),"") | M13: =IFERROR(HLOOKUP($L13,DATI!$I$3:$L$4,2,FALSE),"") | O13: =IFERROR(HLOOKUP($N13,DATI!$M$3:$P$4,2,FALSE),"") | Q13: =IFERROR(HLOOKUP($P13,DATI!$Q$3:$T$4,2,FALSE),"") | R13: =SUM(I13,K13,M13,O13,Q13) -> 0
I14: =IFERROR(HLOOKUP($H14,DATI!$A$3:$D$4,2,FALSE),"") | K14: =IFERROR(HLOOKUP($J14,DATI!$E$3:$H$4,2,FALSE),"") | M14: =IFERROR(HLOOKUP($L14,DATI!$I$3:$L$4,2,FALSE),"") | O14: =IFERROR(HLOOKUP($N14,DATI!$M$3:$P$4,2,FALSE),"") | Q14: =IFERROR(HLOOKUP($P14,DATI!$Q$3:$T$4,2,FALSE),"") | R14: =SUM(I14,K14,M14,O14,Q14) -> 0
I15: =IFERROR(HLOOKUP($H15,DATI!$A$3:$D$4,2,FALSE),"") | K15: =IFERROR(HLOOKUP($J15,DATI!$E$3:$H$4,2,FALSE),"") | M15: =IFERROR(HLOOKUP($L15,DATI!$I$3:$L$4,2,FALSE),"") | O15: =IFERROR(HLOOKUP($N15,DATI!$M$3:$P$4,2,FALSE),"") | Q15: =IFERROR(HLOOKUP($P15,DATI!$Q$3:$T$4,2,FALSE),"") | R15: =SUM(I15,K15,M15,O15,Q15) -> 0
... I19: =IFERROR(HLOOKUP($H19,DATI!$A$3:$D$4,2,FALSE),"") | K19: =IFERROR(HLOOKUP($J19,DATI!$E$3:$H$4,2,FALSE),"") | M19: =IFERROR(HLOOKUP($L19,DATI!$I$3:$L$4,2,FALSE),"") | O19: =IFERROR(HLOOKUP($N19,DATI!$M$3:$P$4,2,FALSE),"") | Q19: =IFERROR(HLOOKUP($P19,DATI!$Q$3:$T$4,2,FALSE),"") | R19: =SUM(I19,K19,M19,O19,Q19) -> 0
F20: =SUM(F4:F19) -> 0 | G20: =SUM(G4:G19) -> 0
A23: Universo campionabile (importo complessivo Rdm) | F23: 0
A24: Importo minimo Campione (Soglia al 5%) | F24: =F23*0.05 -> 0
A25: Importo degli affidamenti campionati | F25: =SUMIF($S$4:$S$19,"X",$F$4:$F$19) -> 0
A26: % degli affidamenti campionati sul totale | F26: =IFERROR(F25/F23,"")
A27: Elenco degli affidamenti campionati (n° CIG) | F27: =IF(S4="X",E4,"")&" - "&IF(S5="X",E5,"")&" - "&IF(S6="X",E6,"")&" - "&IF(S7="X",E7,"")&" - "&IF(S8="X",E8,"")&" - "&IF(S9="X",E9,"")&" - "&IF(S10="X",E10,"")&" - "&IF(S11="X",E11,"")&" - "&IF(S12="X",E12,"")&" - "&IF(S13="X",E13,"")&" - "&IF(S14="X",E14,"")&" - "&IF(S15="X",E15,"")&" - "&IF(S16="X",E16,"")&" - "&IF(S17="X",E17,"")&" - "&IF(S18="X",E18,"")&" - "&IF(S19="X",E19,"") -> - - - - - - - - - - - - - - -

Sheet DATI
A2: 1) RISCHIOSITA' PROGETTO IN ARACHNE | E2: 2) RISCHIOSITA' SOGGETTO ATTUATORE IN ARACHNE | I2: C) VALORE FINANZIARIO PROGETTO | M2: 4) TIPOLOGIA DI AFFIDAMENTO/CONFERIMENTO | Q2: 5) ESITI PRECEDENTI CONTROLLI
A3: 1. Presenza del progetto nella lista ARACHNE con punteggio complessivo allerta frode da 0 a 9 | B3: 2. Presenza del progetto nella lista ARACHNE con punteggio complessivo allerta frode da 10 e 19 | C3: 3. Presenza del progetto nella lista ARACHNE con punteggio complessivo allerta frode da 20 e 29 | D3: 4. Presenza deL progetto nella lista ARACHNE con punteggio complessivo allerta frode da 30 e 50 | E3: 1. Presenza del soggetto attuatore nella lista ARACHNE con punteggio complessivo allerta frode da 0 e 9 | F3: 2. Presenza del soggetto attuatore nella lista ARACHNE con punteggio complessivo allerta frode da 10 e 19 | G3: 3. Presenza del soggetto attuatore nella lista ARACHNE con punteggio complessivo allerta frode da 20 e 29 | H3: 4. Presenza del soggetto attuatore nella lista ARACHNE con punteggio complessivo allerta frode da 30 e 50 | I3: 1. Inferiore a 400.000,00 | J3: 2. Compreso fra 400.001,00 e 800.000,00 | K3: 3. Compreso fra 800.001,00 e 2.000.000,00 | L3: 4. Oltre 2.000.001,00 | M3: 1. Accordi quadro, Convenzioni/contratti quadro CONSIP | N3: 2.Competitiva con negoziazione, Dialogo competitivo Accordi tra enti ed amministrazioni aggiudicatrici del settore pubblico (ex art. 5 D. Lgs. 50/2016) Affidamento Ente In House | O3: 3. Procedura negoziata senza bando Procedura aperta o ristretta sopra e sotto soglia (escluse procedure negoziate) | P3: 4. Affidamenti diretti Altre modalità di affidamento (varianti, atti aggiuntivi, servizi analoghi, ecc.) | Q3: 1. Esito positivo | R3: 2. Esito parzialmente positivo | S3: 3. Esito negativo | T3: 4. Irregolarità o sospetta frode o spesa afferente a operazione mai sottoposta a verifica sul posto
A4: 1 | B4: 3 | C4: 6 | D4: 10 | E4: 1 | F4: 3 | G4: 6 | H4: 10 | I4: 1 | J4: 2 | K4: 3 | L4: 4 | M4: 1 | N4: 2 | O4: 3 | P4: 4 | Q4: 1 | R4: 2 | S4: 3 | T4: 4
